BEGIN:VCALENDAR
VERSION:2.0
PRODID:-//BEBRF - ECPv6.15.20//NONSGML v1.0//EN
CALSCALE:GREGORIAN
METHOD:PUBLISH
X-WR-CALNAME:BEBRF
X-ORIGINAL-URL:https://blepharospasm.org
X-WR-CALDESC:Events for BEBRF
REFRESH-INTERVAL;VALUE=DURATION:PT1H
X-Robots-Tag:noindex
X-PUBLISHED-TTL:PT1H
BEGIN:VTIMEZONE
TZID:UTC
BEGIN:STANDARD
TZOFFSETFROM:+0000
TZOFFSETTO:+0000
TZNAME:UTC
DTSTART:20240101T000000
END:STANDARD
END:VTIMEZONE
BEGIN:VEVENT
DTSTART;TZID=UTC:20250217T130000
DTEND;TZID=UTC:20250217T150000
DTSTAMP:20260424T150959
CREATED:20250106T222039Z
LAST-MODIFIED:20250106T223013Z
UID:5103-1739797200-1739804400@blepharospasm.org
SUMMARY:NATIONAL Zoom! Support Group Meeting
DESCRIPTION:National Zoom! Support Group Meeting \nDate:  Monday\, February 17\, 2025 \nTime:  1pm-3pm central time \nLocation:  Zoom \nPlease contact Charlene for invitation instructions to the meeting. \nContact Person:  Charlene Hudgins \nPhone:  409-832-0788 \nEmail:  charlene@blepharospasm.org
URL:https://blepharospasm.org/event/national-zoom-support-group-meeting-26/
LOCATION:Zoom
ORGANIZER;CN="Charlene Hudgins":MAILTO:charlene@blepharospasm.org
END:VEVENT
BEGIN:VEVENT
DTSTART;TZID=UTC:20250225T120000
DTEND;TZID=UTC:20250225T140000
DTSTAMP:20260424T150959
CREATED:20250204T182050Z
LAST-MODIFIED:20250204T182258Z
UID:5112-1740484800-1740492000@blepharospasm.org
SUMMARY:Tarrant-Parker County Zoom! Support Group Meeting
DESCRIPTION:Tarrant-Parker County Zoom! Support Group Meeting \nDate:  Tuesday\, February 25\, 2025 \nTime:  Noon-2pm central time \nLocation:  Zoom \nPlease contact Sharon West for invitation instructions to the meeting. \nContact Person:  Sharon West \nPhone: (817) 991-5584 \nE-mail: swest124@swbell.net
URL:https://blepharospasm.org/event/tarrant-parker-county-zoom-support-group-meeting-2/
LOCATION:Zoom
ORGANIZER;CN="Sharon West":MAILTO:swest124@swbell.net
END:VEVENT
END:VCALENDAR