BEGIN:VCALENDAR
VERSION:2.0
PRODID:-//BEBRF - ECPv6.15.20//NONSGML v1.0//EN
CALSCALE:GREGORIAN
METHOD:PUBLISH
X-WR-CALNAME:BEBRF
X-ORIGINAL-URL:https://blepharospasm.org
X-WR-CALDESC:Events for BEBRF
REFRESH-INTERVAL;VALUE=DURATION:PT1H
X-Robots-Tag:noindex
X-PUBLISHED-TTL:PT1H
BEGIN:VTIMEZONE
TZID:America/Los_Angeles
BEGIN:DAYLIGHT
TZOFFSETFROM:-0800
TZOFFSETTO:-0700
TZNAME:PDT
DTSTART:20240310T100000
END:DAYLIGHT
BEGIN:STANDARD
TZOFFSETFROM:-0700
TZOFFSETTO:-0800
TZNAME:PST
DTSTART:20241103T090000
END:STANDARD
BEGIN:DAYLIGHT
TZOFFSETFROM:-0800
TZOFFSETTO:-0700
TZNAME:PDT
DTSTART:20250309T100000
END:DAYLIGHT
BEGIN:STANDARD
TZOFFSETFROM:-0700
TZOFFSETTO:-0800
TZNAME:PST
DTSTART:20251102T090000
END:STANDARD
BEGIN:DAYLIGHT
TZOFFSETFROM:-0800
TZOFFSETTO:-0700
TZNAME:PDT
DTSTART:20260308T100000
END:DAYLIGHT
BEGIN:STANDARD
TZOFFSETFROM:-0700
TZOFFSETTO:-0800
TZNAME:PST
DTSTART:20261101T090000
END:STANDARD
END:VTIMEZONE
BEGIN:VEVENT
DTSTART;TZID=America/Los_Angeles:20250508T130000
DTEND;TZID=America/Los_Angeles:20250508T150000
DTSTAMP:20260422T074302
CREATED:20250422T144752Z
LAST-MODIFIED:20250423T171418Z
UID:5177-1746709200-1746716400@blepharospasm.org
SUMMARY:WESTERN DISTRICT BEBRF Zoom! Support Group
DESCRIPTION:Time:  1pm-3pm Pacific\n\n\n\nLocation:  Zoom \nPlease contact Cynthia for invitation instructions to the meeting. \nContact Person:  Cynthia Clark \nTel: 650-678-4132 \nE-mail: dir-w@blepharospasm.org
URL:https://blepharospasm.org/event/western-district-bebrf-support-group-meeting-via-zoom/
LOCATION:Zoom
ORGANIZER;CN="Cynthia Clark":MAILTO:clark.cyl@gmail.com
END:VEVENT
END:VCALENDAR