BEGIN:VCALENDAR
VERSION:2.0
PRODID:-//BEBRF - ECPv6.15.20//NONSGML v1.0//EN
CALSCALE:GREGORIAN
METHOD:PUBLISH
X-ORIGINAL-URL:https://blepharospasm.org
X-WR-CALDESC:Events for BEBRF
REFRESH-INTERVAL;VALUE=DURATION:PT1H
X-Robots-Tag:noindex
X-PUBLISHED-TTL:PT1H
BEGIN:VTIMEZONE
TZID:UTC
BEGIN:STANDARD
TZOFFSETFROM:+0000
TZOFFSETTO:+0000
TZNAME:UTC
DTSTART:20240101T000000
END:STANDARD
END:VTIMEZONE
BEGIN:VEVENT
DTSTART;TZID=UTC:20250502T130000
DTEND;TZID=UTC:20250502T150000
DTSTAMP:20260421T233148
CREATED:20250204T225241Z
LAST-MODIFIED:20250423T174643Z
UID:5129-1746190800-1746198000@blepharospasm.org
SUMMARY:CENTRAL DISTRICT Zoom! Support Group Meeting
DESCRIPTION:Date:  Friday\, May 2\, 2025 \nTime:  1pm-3pm central time \nLocation:  Zoom \nPlease contact Tishana for invitation instructions to the meeting. \nContact Person:  Tishana Cundiff \nPhone: 606-303-1132  \nE-mail:  tishana333@yahoo.com
URL:https://blepharospasm.org/event/central-district-zoom-support-group-meeting/
LOCATION:Zoom
ORGANIZER;CN="Tishana Cundiff":MAILTO:tishana333@yahoo.com
END:VEVENT
END:VCALENDAR